BEGIN:VCALENDAR
VERSION:2.0
PRODID:-//Ville de Sorèze - ECPv6.15.18//NONSGML v1.0//EN
CALSCALE:GREGORIAN
METHOD:PUBLISH
X-ORIGINAL-URL:https://www.ville-soreze.fr
X-WR-CALDESC:Évènements pour Ville de Sorèze
REFRESH-INTERVAL;VALUE=DURATION:PT1H
X-Robots-Tag:noindex
X-PUBLISHED-TTL:PT1H
BEGIN:VTIMEZONE
TZID:Europe/Paris
BEGIN:DAYLIGHT
TZOFFSETFROM:+0100
TZOFFSETTO:+0200
TZNAME:CEST
DTSTART:20250330T010000
END:DAYLIGHT
BEGIN:STANDARD
TZOFFSETFROM:+0200
TZOFFSETTO:+0100
TZNAME:CET
DTSTART:20251026T010000
END:STANDARD
BEGIN:DAYLIGHT
TZOFFSETFROM:+0100
TZOFFSETTO:+0200
TZNAME:CEST
DTSTART:20260329T010000
END:DAYLIGHT
BEGIN:STANDARD
TZOFFSETFROM:+0200
TZOFFSETTO:+0100
TZNAME:CET
DTSTART:20261025T010000
END:STANDARD
BEGIN:DAYLIGHT
TZOFFSETFROM:+0100
TZOFFSETTO:+0200
TZNAME:CEST
DTSTART:20270328T010000
END:DAYLIGHT
BEGIN:STANDARD
TZOFFSETFROM:+0200
TZOFFSETTO:+0100
TZNAME:CET
DTSTART:20271031T010000
END:STANDARD
END:VTIMEZONE
BEGIN:VEVENT
DTSTART;TZID=Europe/Paris:20260201T150000
DTEND;TZID=Europe/Paris:20260430T180000
DTSTAMP:20260420T094653
CREATED:20260120T152826Z
LAST-MODIFIED:20260120T152826Z
UID:19654-1769958000-1777572000@www.ville-soreze.fr
SUMMARY:Ateliers Ferlus Expo de Février à Avril
DESCRIPTION:Les Ateliers Ferlus vous propose une exposition de peintres\, sculpteurs et créateurs dans le goût de l’Italie. \nExposition du 1er février au 30 avril 2026\, aux Ateliers Ferlus : 1 bis rue Ferlus \nOuvert tous les jours de 15h à 18h. \ncontact : ateliers.ferlus81@gmail.com \n 
URL:https://www.ville-soreze.fr/evenement/ateliers-ferlus-expo-de-fevrier-a-avril/
LOCATION:Atelier Ferlus\, 1 bis rue Ferlus\, Sorèze\, 81540\, France
CATEGORIES:Culture
ATTACH;FMTTYPE=image/png:https://www.ville-soreze.fr/wp-content/uploads/2026/01/Ateliers-Ferlus-mars-avril-26.png
END:VEVENT
BEGIN:VEVENT
DTSTART;TZID=Europe/Paris:20260221T090000
DTEND;TZID=Europe/Paris:20260222T170000
DTSTAMP:20260420T094653
CREATED:20260216T103658Z
LAST-MODIFIED:20260216T103658Z
UID:19829-1771664400-1771779600@www.ville-soreze.fr
SUMMARY:Concours de pétanque 21 et 22 février 2026
DESCRIPTION:La pétanque Sorèzienne reçoit les qualificatifs départementaux du Tarn ! \nVenez les soutenir dès 9h00 le samedi 21 février et le dimanche 22 février\, au boulodrome de Sorèze ! \nRestauration sur place : 10 € \nLa municipalité décline toute responsabilité en cas d’annulation.
URL:https://www.ville-soreze.fr/evenement/concours-de-petanque-21-et-22-fevrier-2026/
LOCATION:Boulodrome – les Moureaux\, route de Garrevaques\, Sorèze\, 81540
CATEGORIES:Sports & associations
ATTACH;FMTTYPE=image/jpeg:https://www.ville-soreze.fr/wp-content/uploads/2026/02/petanque-21-et-22.02.2026-scaled.jpg
END:VEVENT
END:VCALENDAR