BEGIN:VCALENDAR
VERSION:2.0
PRODID:-//Ville de Sorèze - ECPv6.15.18//NONSGML v1.0//EN
CALSCALE:GREGORIAN
METHOD:PUBLISH
X-WR-CALNAME:Ville de Sorèze
X-ORIGINAL-URL:https://www.ville-soreze.fr
X-WR-CALDESC:Évènements pour Ville de Sorèze
REFRESH-INTERVAL;VALUE=DURATION:PT1H
X-Robots-Tag:noindex
X-PUBLISHED-TTL:PT1H
BEGIN:VTIMEZONE
TZID:Europe/Paris
BEGIN:DAYLIGHT
TZOFFSETFROM:+0100
TZOFFSETTO:+0200
TZNAME:CEST
DTSTART:20240331T010000
END:DAYLIGHT
BEGIN:STANDARD
TZOFFSETFROM:+0200
TZOFFSETTO:+0100
TZNAME:CET
DTSTART:20241027T010000
END:STANDARD
BEGIN:DAYLIGHT
TZOFFSETFROM:+0100
TZOFFSETTO:+0200
TZNAME:CEST
DTSTART:20250330T010000
END:DAYLIGHT
BEGIN:STANDARD
TZOFFSETFROM:+0200
TZOFFSETTO:+0100
TZNAME:CET
DTSTART:20251026T010000
END:STANDARD
BEGIN:DAYLIGHT
TZOFFSETFROM:+0100
TZOFFSETTO:+0200
TZNAME:CEST
DTSTART:20260329T010000
END:DAYLIGHT
BEGIN:STANDARD
TZOFFSETFROM:+0200
TZOFFSETTO:+0100
TZNAME:CET
DTSTART:20261025T010000
END:STANDARD
END:VTIMEZONE
BEGIN:VEVENT
DTSTART;TZID=Europe/Paris:20250315T090000
DTEND;TZID=Europe/Paris:20250315T170000
DTSTAMP:20260423T105204
CREATED:20250206T204910Z
LAST-MODIFIED:20250310T163519Z
UID:17105-1742029200-1742058000@www.ville-soreze.fr
SUMMARY:Portes Ouvertes CMA Formation
DESCRIPTION:Samedi 15 mars\, de 9h à 12h – 13h30 à 17h\, les centres CMA Formation Albi-Cunac et Sorèze ouvrent leurs portes. C’est l’occasion idéale pour découvrir les métiers de l’artisanat et explorer les formations en apprentissage qui vous guideront vers votre futur métier. \nVenez découvrir à Sorèze les formations du CMA Formation du Tarn. \nDu CAP à la Licence Pro\, explorez toutes les formations en alternance qui mènent à des carrières enrichissantes. \n\nRencontres inspirantes\nVisites des ateliers\nConseils sur mesure\n\nAllées Notre-Dame – Sorèze | 05 63 50 30 68 \nLien vers les informations complémentaires et contacts
URL:https://www.ville-soreze.fr/evenement/portes-ouvertes-cma-formation-15-mars-2025/
LOCATION:Parc de l’Abbaye-école\, Allées Notre Dame\, Sorèze\, 81540\, France
CATEGORIES:Divers
ATTACH;FMTTYPE=image/jpeg:https://www.ville-soreze.fr/wp-content/uploads/2025/02/CMA-Tarn-portes-ouvertes-2025.jpg
END:VEVENT
END:VCALENDAR