BEGIN:VCALENDAR
VERSION:2.0
PRODID:-//Ville de Sorèze - ECPv6.15.18//NONSGML v1.0//EN
CALSCALE:GREGORIAN
METHOD:PUBLISH
X-ORIGINAL-URL:https://www.ville-soreze.fr
X-WR-CALDESC:Évènements pour Ville de Sorèze
REFRESH-INTERVAL;VALUE=DURATION:PT1H
X-Robots-Tag:noindex
X-PUBLISHED-TTL:PT1H
BEGIN:VTIMEZONE
TZID:Europe/Paris
BEGIN:DAYLIGHT
TZOFFSETFROM:+0100
TZOFFSETTO:+0200
TZNAME:CEST
DTSTART:20220327T010000
END:DAYLIGHT
BEGIN:STANDARD
TZOFFSETFROM:+0200
TZOFFSETTO:+0100
TZNAME:CET
DTSTART:20221030T010000
END:STANDARD
BEGIN:DAYLIGHT
TZOFFSETFROM:+0100
TZOFFSETTO:+0200
TZNAME:CEST
DTSTART:20230326T010000
END:DAYLIGHT
BEGIN:STANDARD
TZOFFSETFROM:+0200
TZOFFSETTO:+0100
TZNAME:CET
DTSTART:20231029T010000
END:STANDARD
BEGIN:DAYLIGHT
TZOFFSETFROM:+0100
TZOFFSETTO:+0200
TZNAME:CEST
DTSTART:20240331T010000
END:DAYLIGHT
BEGIN:STANDARD
TZOFFSETFROM:+0200
TZOFFSETTO:+0100
TZNAME:CET
DTSTART:20241027T010000
END:STANDARD
END:VTIMEZONE
BEGIN:VEVENT
DTSTART;TZID=Europe/Paris:20231216T150000
DTEND;TZID=Europe/Paris:20231216T180000
DTSTAMP:20260424T074529
CREATED:20230928T143205Z
LAST-MODIFIED:20230928T143205Z
UID:13258-1702738800-1702749600@www.ville-soreze.fr
SUMMARY:Atelier Répar'tout - décembre
DESCRIPTION:Venez réparer vos objets cassés !\nNotre équipe de bénévoles vous aidera à réparer vos vélos\, petits objets en bois\, jouets ou appareillage électrique ainsi que des travaux de petite couture. \nSAMEDI 16 DECEMBRE 2023 de 15h à 18h\nCes ateliers sont ouverts à tous et gratuits. L’accueil des enfants est possible sous votre responsabilité et votre surveillance.
URL:https://www.ville-soreze.fr/evenement/atelier-repartout-16-dec-2023/
LOCATION:Espace de Lien Social\, 7 rue des écoles\, Sorèze\, 81540\, France
CATEGORIES:Environnement
ATTACH;FMTTYPE=image/jpeg:https://www.ville-soreze.fr/wp-content/uploads/2023/09/REPAR-TOUT-3e-samedi-du-mois.jpg
END:VEVENT
END:VCALENDAR