BEGIN:VCALENDAR
VERSION:2.0
PRODID:-//Ville de Sorèze - ECPv6.15.18//NONSGML v1.0//EN
CALSCALE:GREGORIAN
METHOD:PUBLISH
X-ORIGINAL-URL:https://www.ville-soreze.fr
X-WR-CALDESC:Évènements pour Ville de Sorèze
REFRESH-INTERVAL;VALUE=DURATION:PT1H
X-Robots-Tag:noindex
X-PUBLISHED-TTL:PT1H
BEGIN:VTIMEZONE
TZID:Europe/Paris
BEGIN:DAYLIGHT
TZOFFSETFROM:+0100
TZOFFSETTO:+0200
TZNAME:CEST
DTSTART:20220327T010000
END:DAYLIGHT
BEGIN:STANDARD
TZOFFSETFROM:+0200
TZOFFSETTO:+0100
TZNAME:CET
DTSTART:20221030T010000
END:STANDARD
BEGIN:DAYLIGHT
TZOFFSETFROM:+0100
TZOFFSETTO:+0200
TZNAME:CEST
DTSTART:20230326T010000
END:DAYLIGHT
BEGIN:STANDARD
TZOFFSETFROM:+0200
TZOFFSETTO:+0100
TZNAME:CET
DTSTART:20231029T010000
END:STANDARD
BEGIN:DAYLIGHT
TZOFFSETFROM:+0100
TZOFFSETTO:+0200
TZNAME:CEST
DTSTART:20240331T010000
END:DAYLIGHT
BEGIN:STANDARD
TZOFFSETFROM:+0200
TZOFFSETTO:+0100
TZNAME:CET
DTSTART:20241027T010000
END:STANDARD
END:VTIMEZONE
BEGIN:VEVENT
DTSTART;TZID=Europe/Paris:20230610T150000
DTEND;TZID=Europe/Paris:20230610T170000
DTSTAMP:20260421T120643
CREATED:20230425T190454Z
LAST-MODIFIED:20230425T190454Z
UID:11847-1686409200-1686416400@www.ville-soreze.fr
SUMMARY:Atelier Répar'tout - juin
DESCRIPTION:Venez réparer vos objets cassés !\n\n\nD’abord initiés au centre social de Revel par l’association Vert Ici et le SIPOM\, les ateliers Répar’tout arrivent à Sorèze. Notre équipe de bénévoles vous aidera à réparer vos vélos\, petits objets en bois\, jouets ou appareillage électrique ainsi que des travaux de petite couture. \nDeux dates à retenir\, les SAMEDIS 13 MAI et 10 JUIN 2023 de 15h à 17h \nCes ateliers sont ouverts à tous et gratuits. L’accueil des enfants est possible sous votre responsabilité et votre surveillance.
URL:https://www.ville-soreze.fr/evenement/atelier-repartout-10juin/
LOCATION:Espace de Lien Social\, 7 rue des écoles\, Sorèze\, 81540\, France
CATEGORIES:Environnement
ATTACH;FMTTYPE=image/jpeg:https://www.ville-soreze.fr/wp-content/uploads/2023/04/Atelier-ReparTout-mai-juin-2023.jpg
END:VEVENT
BEGIN:VEVENT
DTSTART;TZID=Europe/Paris:20230610T090000
DTEND;TZID=Europe/Paris:20230610T150000
DTSTAMP:20260421T120643
CREATED:20230531T140326Z
LAST-MODIFIED:20230531T140326Z
UID:12362-1686387600-1686409200@www.ville-soreze.fr
SUMMARY:Oiseaux de la Montagne noire occidentale
DESCRIPTION:Dans le cadre de son Schéma Départemental des Espaces Naturels\, le Département propose une série de balades gratuites\, commentées par des associations ou entreprises référentes.\nL’une de ces balades se déroulera sur l’Oppidum de Berniquaut avec comme thème l’oiseau ! \nRenseignements et inscription obligatoire (places limitées) auprès de la LPO Tarn : 06 87 19 75 29 – tarn@lpo.fr
URL:https://www.ville-soreze.fr/evenement/oiseaux-de-la-montagne-noire-occidentale/
LOCATION:Aire de stationnement de Berniquaut\, 3 chemin du tour du parc\, Sorèze\, 81540\, France
CATEGORIES:Spectacles & animations,Environnement
ATTACH;FMTTYPE=image/jpeg:https://www.ville-soreze.fr/wp-content/uploads/2023/05/Sortie-ENS-Soreze-10-JUIN.jpg
END:VEVENT
BEGIN:VEVENT
DTSTART;TZID=Europe/Paris:20230513T150000
DTEND;TZID=Europe/Paris:20230513T170000
DTSTAMP:20260421T120643
CREATED:20230425T185413Z
LAST-MODIFIED:20230425T190753Z
UID:11844-1683990000-1683997200@www.ville-soreze.fr
SUMMARY:Atelier Répar'tout - mai
DESCRIPTION:Venez réparer vos objets cassés !\n\n\nD’abord initiés au centre social de Revel par l’association Vert Ici et le SIPOM\, les ateliers Répar’tout arrivent à Sorèze. Notre équipe de bénévoles vous aidera à réparer vos vélos\, petits objets en bois\, jouets ou appareillage électrique ainsi que des travaux de petite couture. \nDeux dates à retenir\, les SAMEDIS 13 MAI et 10 JUIN 2023 de 15h à 17h \nCes ateliers sont ouverts à tous et gratuits. L’accueil des enfants est possible sous votre responsabilité et votre surveillance.
URL:https://www.ville-soreze.fr/evenement/atelier-repartout-13-mai-2023/
LOCATION:Espace de Lien Social\, 7 rue des écoles\, Sorèze\, 81540\, France
CATEGORIES:Environnement
ATTACH;FMTTYPE=image/jpeg:https://www.ville-soreze.fr/wp-content/uploads/2023/04/Atelier-ReparTout-mai-juin-2023.jpg
END:VEVENT
END:VCALENDAR