BEGIN:VCALENDAR
VERSION:2.0
PRODID:-//Ville de Sorèze - ECPv6.15.18//NONSGML v1.0//EN
CALSCALE:GREGORIAN
METHOD:PUBLISH
X-WR-CALNAME:Ville de Sorèze
X-ORIGINAL-URL:https://www.ville-soreze.fr
X-WR-CALDESC:Évènements pour Ville de Sorèze
REFRESH-INTERVAL;VALUE=DURATION:PT1H
X-Robots-Tag:noindex
X-PUBLISHED-TTL:PT1H
BEGIN:VTIMEZONE
TZID:Europe/Paris
BEGIN:DAYLIGHT
TZOFFSETFROM:+0100
TZOFFSETTO:+0200
TZNAME:CEST
DTSTART:20230326T010000
END:DAYLIGHT
BEGIN:STANDARD
TZOFFSETFROM:+0200
TZOFFSETTO:+0100
TZNAME:CET
DTSTART:20231029T010000
END:STANDARD
BEGIN:DAYLIGHT
TZOFFSETFROM:+0100
TZOFFSETTO:+0200
TZNAME:CEST
DTSTART:20240331T010000
END:DAYLIGHT
BEGIN:STANDARD
TZOFFSETFROM:+0200
TZOFFSETTO:+0100
TZNAME:CET
DTSTART:20241027T010000
END:STANDARD
BEGIN:DAYLIGHT
TZOFFSETFROM:+0100
TZOFFSETTO:+0200
TZNAME:CEST
DTSTART:20250330T010000
END:DAYLIGHT
BEGIN:STANDARD
TZOFFSETFROM:+0200
TZOFFSETTO:+0100
TZNAME:CET
DTSTART:20251026T010000
END:STANDARD
END:VTIMEZONE
BEGIN:VEVENT
DTSTART;TZID=Europe/Paris:20240824T080000
DTEND;TZID=Europe/Paris:20240824T170000
DTSTAMP:20260423T031327
CREATED:20240321T100533Z
LAST-MODIFIED:20240325T131955Z
UID:14671-1724486400-1724518800@www.ville-soreze.fr
SUMMARY:Vide grenier du livre - 24 août 2024
DESCRIPTION:Dans le cadre du grand vide grenier de Sorèze\, retrouvez le vide grenier du livre rue Saint Martin. \ninfo – ADACS – 06.33.62.72.81
URL:https://www.ville-soreze.fr/evenement/vide-grenier-du-livre-24-aout-2024/
LOCATION:Rue Saint Martin\, Rue Saint Martin\, Sorèze\, 81540\, France
CATEGORIES:Culture,Foires & Fêtes
ATTACH;FMTTYPE=image/jpeg:https://www.ville-soreze.fr/wp-content/uploads/2021/04/Rue-Lacordaire-animee-HS.jpg
END:VEVENT
BEGIN:VEVENT
DTSTART;TZID=Europe/Paris:20240824T080000
DTEND;TZID=Europe/Paris:20240824T180000
DTSTAMP:20260423T031327
CREATED:20240416T200231Z
LAST-MODIFIED:20240512T203224Z
UID:14911-1724486400-1724522400@www.ville-soreze.fr
SUMMARY:Grand vide grenier 2024
DESCRIPTION:Contact :  comitefetessoreze@gmail.com\nInscription : document en téléchargement \norganisé par le Comité des fêtes de Sorèze
URL:https://www.ville-soreze.fr/evenement/vide-grenier-2024/
LOCATION:Centre bourg\, Sorèze\, 81540\, France
CATEGORIES:Foires & Fêtes
ATTACH;FMTTYPE=image/jpeg:https://www.ville-soreze.fr/wp-content/uploads/2024/04/Vide-grenier-2024.jpg
END:VEVENT
END:VCALENDAR